BEGIN:VCALENDAR
VERSION:2.0
PRODID:-//SLLS - ECPv6.15.17//NONSGML v1.0//EN
CALSCALE:GREGORIAN
METHOD:PUBLISH
X-WR-CALNAME:SLLS
X-ORIGINAL-URL:https://slls.org/en
X-WR-CALDESC:Events for SLLS
REFRESH-INTERVAL;VALUE=DURATION:PT1H
X-Robots-Tag:noindex
X-PUBLISHED-TTL:PT1H
BEGIN:VTIMEZONE
TZID:America/Chicago
BEGIN:DAYLIGHT
TZOFFSETFROM:-0600
TZOFFSETTO:-0500
TZNAME:CDT
DTSTART:20240310T080000
END:DAYLIGHT
BEGIN:STANDARD
TZOFFSETFROM:-0500
TZOFFSETTO:-0600
TZNAME:CST
DTSTART:20241103T070000
END:STANDARD
BEGIN:DAYLIGHT
TZOFFSETFROM:-0600
TZOFFSETTO:-0500
TZNAME:CDT
DTSTART:20250309T080000
END:DAYLIGHT
BEGIN:STANDARD
TZOFFSETFROM:-0500
TZOFFSETTO:-0600
TZNAME:CST
DTSTART:20251102T070000
END:STANDARD
BEGIN:DAYLIGHT
TZOFFSETFROM:-0600
TZOFFSETTO:-0500
TZNAME:CDT
DTSTART:20260308T080000
END:DAYLIGHT
BEGIN:STANDARD
TZOFFSETFROM:-0500
TZOFFSETTO:-0600
TZNAME:CST
DTSTART:20261101T070000
END:STANDARD
END:VTIMEZONE
BEGIN:VEVENT
DTSTART;TZID=America/Chicago:20250529T173000
DTEND;TZID=America/Chicago:20250529T193000
DTSTAMP:20260420T033328
CREATED:20250506T174723Z
LAST-MODIFIED:20250506T174723Z
UID:10000331-1748539800-1748547000@slls.org
SUMMARY:"The Bar Exam" Pub-style Trivia Fundraiser
DESCRIPTION:SLLS’ annual pub-style trivia fundraiser\, “The Bar Exam\,” is on May 29\, 2025 at Zony Mash Beer Project. Sponsorship opportunities are still available\, and a limited number of tickets will be available at the door. Email communications@slls.org for more information.
URL:https://slls.org/en/event/bar-exam-2025/
LOCATION:Zony Mash Beer Project\, 3940 Thalia St\, New Orleans\, Louisiana\, 70125\, United States
END:VEVENT
END:VCALENDAR