BEGIN:VCALENDAR
VERSION:2.0
PRODID:-//SLLS - ECPv6.15.17//NONSGML v1.0//EN
CALSCALE:GREGORIAN
METHOD:PUBLISH
X-ORIGINAL-URL:https://slls.org/en
X-WR-CALDESC:Events for SLLS
REFRESH-INTERVAL;VALUE=DURATION:PT1H
X-Robots-Tag:noindex
X-PUBLISHED-TTL:PT1H
BEGIN:VTIMEZONE
TZID:America/Chicago
BEGIN:DAYLIGHT
TZOFFSETFROM:-0600
TZOFFSETTO:-0500
TZNAME:CDT
DTSTART:20240310T080000
END:DAYLIGHT
BEGIN:STANDARD
TZOFFSETFROM:-0500
TZOFFSETTO:-0600
TZNAME:CST
DTSTART:20241103T070000
END:STANDARD
BEGIN:DAYLIGHT
TZOFFSETFROM:-0600
TZOFFSETTO:-0500
TZNAME:CDT
DTSTART:20250309T080000
END:DAYLIGHT
BEGIN:STANDARD
TZOFFSETFROM:-0500
TZOFFSETTO:-0600
TZNAME:CST
DTSTART:20251102T070000
END:STANDARD
BEGIN:DAYLIGHT
TZOFFSETFROM:-0600
TZOFFSETTO:-0500
TZNAME:CDT
DTSTART:20260308T080000
END:DAYLIGHT
BEGIN:STANDARD
TZOFFSETFROM:-0500
TZOFFSETTO:-0600
TZNAME:CST
DTSTART:20261101T070000
END:STANDARD
END:VTIMEZONE
BEGIN:VEVENT
DTSTART;TZID=America/Chicago:20250201T090000
DTEND;TZID=America/Chicago:20250201T134500
DTSTAMP:20260420T085717
CREATED:20250117T155330Z
LAST-MODIFIED:20250117T155441Z
UID:10000066-1738400400-1738417500@slls.org
SUMMARY:Securing Your Legacy: A Will Writing Clinic
DESCRIPTION:Take the first steps in securing your legacy with this Will writing clinic. Come ready with your Photo ID to meet with an attorney* to create and notarize your will! \n* Registration is required to meet with an attorney; eligibility restrictions apply. Registration is encouraged but not required to attend the presentations. \nREGISTER ONLINE: www.louisianaappleseed.org/sanchezcenterclinic \nSaturday\, February 1\, 2025 \nSanchez Community Center \n1616 Fats Domino Ave\, New Orleans\, LA\,70117 \n9:00 AM –1:45 PM \nInformational Presentations at 10am and 12pm are \nFree and Open to the Public
URL:https://slls.org/en/event/securing-your-legacy-a-will-writing-clinic/
LOCATION:Sanchez Community Center\, 1616 Fats Domino Ave\, New Orleans\, LA\, 70117\, United States
CATEGORIES:Clinics
END:VEVENT
END:VCALENDAR