BEGIN:VCALENDAR
VERSION:2.0
PRODID:-//SLLS - ECPv6.15.17//NONSGML v1.0//EN
CALSCALE:GREGORIAN
METHOD:PUBLISH
X-ORIGINAL-URL:https://slls.org/en
X-WR-CALDESC:Events for SLLS
REFRESH-INTERVAL;VALUE=DURATION:PT1H
X-Robots-Tag:noindex
X-PUBLISHED-TTL:PT1H
BEGIN:VTIMEZONE
TZID:America/Chicago
BEGIN:DAYLIGHT
TZOFFSETFROM:-0600
TZOFFSETTO:-0500
TZNAME:CDT
DTSTART:20250309T080000
END:DAYLIGHT
BEGIN:STANDARD
TZOFFSETFROM:-0500
TZOFFSETTO:-0600
TZNAME:CST
DTSTART:20251102T070000
END:STANDARD
BEGIN:DAYLIGHT
TZOFFSETFROM:-0600
TZOFFSETTO:-0500
TZNAME:CDT
DTSTART:20260308T080000
END:DAYLIGHT
BEGIN:STANDARD
TZOFFSETFROM:-0500
TZOFFSETTO:-0600
TZNAME:CST
DTSTART:20261101T070000
END:STANDARD
BEGIN:DAYLIGHT
TZOFFSETFROM:-0600
TZOFFSETTO:-0500
TZNAME:CDT
DTSTART:20270314T080000
END:DAYLIGHT
BEGIN:STANDARD
TZOFFSETFROM:-0500
TZOFFSETTO:-0600
TZNAME:CST
DTSTART:20271107T070000
END:STANDARD
BEGIN:DAYLIGHT
TZOFFSETFROM:-0600
TZOFFSETTO:-0500
TZNAME:CDT
DTSTART:20280312T080000
END:DAYLIGHT
BEGIN:STANDARD
TZOFFSETFROM:-0500
TZOFFSETTO:-0600
TZNAME:CST
DTSTART:20281105T070000
END:STANDARD
BEGIN:DAYLIGHT
TZOFFSETFROM:-0600
TZOFFSETTO:-0500
TZNAME:CDT
DTSTART:20290311T080000
END:DAYLIGHT
BEGIN:STANDARD
TZOFFSETFROM:-0500
TZOFFSETTO:-0600
TZNAME:CST
DTSTART:20291104T070000
END:STANDARD
END:VTIMEZONE
BEGIN:VEVENT
DTSTART;TZID=America/Chicago:20260506T090000
DTEND;TZID=America/Chicago:20260506T120000
DTSTAMP:20260419T093204
CREATED:20241210T180950Z
LAST-MODIFIED:20250318T180649Z
UID:10000021-1778058000-1778068800@slls.org
SUMMARY:Homeownership Outreach - Kenner Senior Center
DESCRIPTION:
URL:https://slls.org/en/event/homeownership-outreach-kenner-senior-center/2026-05-06/
LOCATION:kenner senior center\, 641 Compromise St\, Kenner\, LA\, 70062\, United States
CATEGORIES:Clinics
END:VEVENT
BEGIN:VEVENT
DTSTART;TZID=America/Chicago:20260603T090000
DTEND;TZID=America/Chicago:20260603T120000
DTSTAMP:20260419T093204
CREATED:20241210T180950Z
LAST-MODIFIED:20250318T180649Z
UID:10000022-1780477200-1780488000@slls.org
SUMMARY:Homeownership Outreach - Kenner Senior Center
DESCRIPTION:
URL:https://slls.org/en/event/homeownership-outreach-kenner-senior-center/2026-06-03/
LOCATION:kenner senior center\, 641 Compromise St\, Kenner\, LA\, 70062\, United States
CATEGORIES:Clinics
END:VEVENT
BEGIN:VEVENT
DTSTART;TZID=America/Chicago:20260701T090000
DTEND;TZID=America/Chicago:20260701T120000
DTSTAMP:20260419T093204
CREATED:20241210T180950Z
LAST-MODIFIED:20250318T180649Z
UID:10000023-1782896400-1782907200@slls.org
SUMMARY:Homeownership Outreach - Kenner Senior Center
DESCRIPTION:
URL:https://slls.org/en/event/homeownership-outreach-kenner-senior-center/2026-07-01/
LOCATION:kenner senior center\, 641 Compromise St\, Kenner\, LA\, 70062\, United States
CATEGORIES:Clinics
END:VEVENT
BEGIN:VEVENT
DTSTART;TZID=America/Chicago:20260805T090000
DTEND;TZID=America/Chicago:20260805T120000
DTSTAMP:20260419T093204
CREATED:20241210T180950Z
LAST-MODIFIED:20250318T180649Z
UID:10000024-1785920400-1785931200@slls.org
SUMMARY:Homeownership Outreach - Kenner Senior Center
DESCRIPTION:
URL:https://slls.org/en/event/homeownership-outreach-kenner-senior-center/2026-08-05/
LOCATION:kenner senior center\, 641 Compromise St\, Kenner\, LA\, 70062\, United States
CATEGORIES:Clinics
END:VEVENT
BEGIN:VEVENT
DTSTART;TZID=America/Chicago:20260902T090000
DTEND;TZID=America/Chicago:20260902T120000
DTSTAMP:20260419T093204
CREATED:20241210T180950Z
LAST-MODIFIED:20250318T180649Z
UID:10000025-1788339600-1788350400@slls.org
SUMMARY:Homeownership Outreach - Kenner Senior Center
DESCRIPTION:
URL:https://slls.org/en/event/homeownership-outreach-kenner-senior-center/2026-09-02/
LOCATION:kenner senior center\, 641 Compromise St\, Kenner\, LA\, 70062\, United States
CATEGORIES:Clinics
END:VEVENT
BEGIN:VEVENT
DTSTART;TZID=America/Chicago:20261007T090000
DTEND;TZID=America/Chicago:20261007T120000
DTSTAMP:20260419T093204
CREATED:20241210T180950Z
LAST-MODIFIED:20250318T180649Z
UID:10000026-1791363600-1791374400@slls.org
SUMMARY:Homeownership Outreach - Kenner Senior Center
DESCRIPTION:
URL:https://slls.org/en/event/homeownership-outreach-kenner-senior-center/2026-10-07/
LOCATION:kenner senior center\, 641 Compromise St\, Kenner\, LA\, 70062\, United States
CATEGORIES:Clinics
END:VEVENT
BEGIN:VEVENT
DTSTART;TZID=America/Chicago:20261104T090000
DTEND;TZID=America/Chicago:20261104T120000
DTSTAMP:20260419T093204
CREATED:20241210T180950Z
LAST-MODIFIED:20250318T180649Z
UID:10000027-1793782800-1793793600@slls.org
SUMMARY:Homeownership Outreach - Kenner Senior Center
DESCRIPTION:
URL:https://slls.org/en/event/homeownership-outreach-kenner-senior-center/2026-11-04/
LOCATION:kenner senior center\, 641 Compromise St\, Kenner\, LA\, 70062\, United States
CATEGORIES:Clinics
END:VEVENT
BEGIN:VEVENT
DTSTART;TZID=America/Chicago:20261202T090000
DTEND;TZID=America/Chicago:20261202T120000
DTSTAMP:20260419T093204
CREATED:20241210T180950Z
LAST-MODIFIED:20250318T180649Z
UID:10000028-1796202000-1796212800@slls.org
SUMMARY:Homeownership Outreach - Kenner Senior Center
DESCRIPTION:
URL:https://slls.org/en/event/homeownership-outreach-kenner-senior-center/2026-12-02/
LOCATION:kenner senior center\, 641 Compromise St\, Kenner\, LA\, 70062\, United States
CATEGORIES:Clinics
END:VEVENT
BEGIN:VEVENT
DTSTART;TZID=America/Chicago:20270106T090000
DTEND;TZID=America/Chicago:20270106T120000
DTSTAMP:20260419T093204
CREATED:20241210T180950Z
LAST-MODIFIED:20250318T180649Z
UID:10000029-1799226000-1799236800@slls.org
SUMMARY:Homeownership Outreach - Kenner Senior Center
DESCRIPTION:
URL:https://slls.org/en/event/homeownership-outreach-kenner-senior-center/2027-01-06/
LOCATION:kenner senior center\, 641 Compromise St\, Kenner\, LA\, 70062\, United States
CATEGORIES:Clinics
END:VEVENT
BEGIN:VEVENT
DTSTART;TZID=America/Chicago:20270203T090000
DTEND;TZID=America/Chicago:20270203T120000
DTSTAMP:20260419T093204
CREATED:20241210T180950Z
LAST-MODIFIED:20250318T180649Z
UID:10000030-1801645200-1801656000@slls.org
SUMMARY:Homeownership Outreach - Kenner Senior Center
DESCRIPTION:
URL:https://slls.org/en/event/homeownership-outreach-kenner-senior-center/2027-02-03/
LOCATION:kenner senior center\, 641 Compromise St\, Kenner\, LA\, 70062\, United States
CATEGORIES:Clinics
END:VEVENT
BEGIN:VEVENT
DTSTART;TZID=America/Chicago:20270303T090000
DTEND;TZID=America/Chicago:20270303T120000
DTSTAMP:20260419T093204
CREATED:20241210T180950Z
LAST-MODIFIED:20250318T180649Z
UID:10000031-1804064400-1804075200@slls.org
SUMMARY:Homeownership Outreach - Kenner Senior Center
DESCRIPTION:
URL:https://slls.org/en/event/homeownership-outreach-kenner-senior-center/2027-03-03/
LOCATION:kenner senior center\, 641 Compromise St\, Kenner\, LA\, 70062\, United States
CATEGORIES:Clinics
END:VEVENT
BEGIN:VEVENT
DTSTART;TZID=America/Chicago:20270407T090000
DTEND;TZID=America/Chicago:20270407T120000
DTSTAMP:20260419T093204
CREATED:20241210T180950Z
LAST-MODIFIED:20250318T180649Z
UID:10000032-1807088400-1807099200@slls.org
SUMMARY:Homeownership Outreach - Kenner Senior Center
DESCRIPTION:
URL:https://slls.org/en/event/homeownership-outreach-kenner-senior-center/2027-04-07/
LOCATION:kenner senior center\, 641 Compromise St\, Kenner\, LA\, 70062\, United States
CATEGORIES:Clinics
END:VEVENT
BEGIN:VEVENT
DTSTART;TZID=America/Chicago:20270505T090000
DTEND;TZID=America/Chicago:20270505T120000
DTSTAMP:20260419T093204
CREATED:20241210T180950Z
LAST-MODIFIED:20250318T180649Z
UID:10000033-1809507600-1809518400@slls.org
SUMMARY:Homeownership Outreach - Kenner Senior Center
DESCRIPTION:
URL:https://slls.org/en/event/homeownership-outreach-kenner-senior-center/2027-05-05/
LOCATION:kenner senior center\, 641 Compromise St\, Kenner\, LA\, 70062\, United States
CATEGORIES:Clinics
END:VEVENT
BEGIN:VEVENT
DTSTART;TZID=America/Chicago:20270602T090000
DTEND;TZID=America/Chicago:20270602T120000
DTSTAMP:20260419T093204
CREATED:20241210T180950Z
LAST-MODIFIED:20250318T180649Z
UID:10000034-1811926800-1811937600@slls.org
SUMMARY:Homeownership Outreach - Kenner Senior Center
DESCRIPTION:
URL:https://slls.org/en/event/homeownership-outreach-kenner-senior-center/2027-06-02/
LOCATION:kenner senior center\, 641 Compromise St\, Kenner\, LA\, 70062\, United States
CATEGORIES:Clinics
END:VEVENT
BEGIN:VEVENT
DTSTART;TZID=America/Chicago:20270707T090000
DTEND;TZID=America/Chicago:20270707T120000
DTSTAMP:20260419T093204
CREATED:20241210T180950Z
LAST-MODIFIED:20250318T180649Z
UID:10000035-1814950800-1814961600@slls.org
SUMMARY:Homeownership Outreach - Kenner Senior Center
DESCRIPTION:
URL:https://slls.org/en/event/homeownership-outreach-kenner-senior-center/2027-07-07/
LOCATION:kenner senior center\, 641 Compromise St\, Kenner\, LA\, 70062\, United States
CATEGORIES:Clinics
END:VEVENT
BEGIN:VEVENT
DTSTART;TZID=America/Chicago:20270804T090000
DTEND;TZID=America/Chicago:20270804T120000
DTSTAMP:20260419T093204
CREATED:20241210T180950Z
LAST-MODIFIED:20250318T180649Z
UID:10000036-1817370000-1817380800@slls.org
SUMMARY:Homeownership Outreach - Kenner Senior Center
DESCRIPTION:
URL:https://slls.org/en/event/homeownership-outreach-kenner-senior-center/2027-08-04/
LOCATION:kenner senior center\, 641 Compromise St\, Kenner\, LA\, 70062\, United States
CATEGORIES:Clinics
END:VEVENT
BEGIN:VEVENT
DTSTART;TZID=America/Chicago:20270901T090000
DTEND;TZID=America/Chicago:20270901T120000
DTSTAMP:20260419T093204
CREATED:20241210T180950Z
LAST-MODIFIED:20250318T180649Z
UID:10000037-1819789200-1819800000@slls.org
SUMMARY:Homeownership Outreach - Kenner Senior Center
DESCRIPTION:
URL:https://slls.org/en/event/homeownership-outreach-kenner-senior-center/2027-09-01/
LOCATION:kenner senior center\, 641 Compromise St\, Kenner\, LA\, 70062\, United States
CATEGORIES:Clinics
END:VEVENT
BEGIN:VEVENT
DTSTART;TZID=America/Chicago:20271006T090000
DTEND;TZID=America/Chicago:20271006T120000
DTSTAMP:20260419T093204
CREATED:20241210T180950Z
LAST-MODIFIED:20250318T180649Z
UID:10000038-1822813200-1822824000@slls.org
SUMMARY:Homeownership Outreach - Kenner Senior Center
DESCRIPTION:
URL:https://slls.org/en/event/homeownership-outreach-kenner-senior-center/2027-10-06/
LOCATION:kenner senior center\, 641 Compromise St\, Kenner\, LA\, 70062\, United States
CATEGORIES:Clinics
END:VEVENT
BEGIN:VEVENT
DTSTART;TZID=America/Chicago:20271103T090000
DTEND;TZID=America/Chicago:20271103T120000
DTSTAMP:20260419T093204
CREATED:20241210T180950Z
LAST-MODIFIED:20250318T180649Z
UID:10000039-1825232400-1825243200@slls.org
SUMMARY:Homeownership Outreach - Kenner Senior Center
DESCRIPTION:
URL:https://slls.org/en/event/homeownership-outreach-kenner-senior-center/2027-11-03/
LOCATION:kenner senior center\, 641 Compromise St\, Kenner\, LA\, 70062\, United States
CATEGORIES:Clinics
END:VEVENT
BEGIN:VEVENT
DTSTART;TZID=America/Chicago:20271201T090000
DTEND;TZID=America/Chicago:20271201T120000
DTSTAMP:20260419T093204
CREATED:20241210T180950Z
LAST-MODIFIED:20250318T180649Z
UID:10000040-1827651600-1827662400@slls.org
SUMMARY:Homeownership Outreach - Kenner Senior Center
DESCRIPTION:
URL:https://slls.org/en/event/homeownership-outreach-kenner-senior-center/2027-12-01/
LOCATION:kenner senior center\, 641 Compromise St\, Kenner\, LA\, 70062\, United States
CATEGORIES:Clinics
END:VEVENT
BEGIN:VEVENT
DTSTART;TZID=America/Chicago:20280105T090000
DTEND;TZID=America/Chicago:20280105T120000
DTSTAMP:20260419T093204
CREATED:20241210T180950Z
LAST-MODIFIED:20250318T180649Z
UID:10000041-1830675600-1830686400@slls.org
SUMMARY:Homeownership Outreach - Kenner Senior Center
DESCRIPTION:
URL:https://slls.org/en/event/homeownership-outreach-kenner-senior-center/2028-01-05/
LOCATION:kenner senior center\, 641 Compromise St\, Kenner\, LA\, 70062\, United States
CATEGORIES:Clinics
END:VEVENT
BEGIN:VEVENT
DTSTART;TZID=America/Chicago:20280202T090000
DTEND;TZID=America/Chicago:20280202T120000
DTSTAMP:20260419T093204
CREATED:20241210T180950Z
LAST-MODIFIED:20250318T180649Z
UID:10000042-1833094800-1833105600@slls.org
SUMMARY:Homeownership Outreach - Kenner Senior Center
DESCRIPTION:
URL:https://slls.org/en/event/homeownership-outreach-kenner-senior-center/2028-02-02/
LOCATION:kenner senior center\, 641 Compromise St\, Kenner\, LA\, 70062\, United States
CATEGORIES:Clinics
END:VEVENT
BEGIN:VEVENT
DTSTART;TZID=America/Chicago:20280301T090000
DTEND;TZID=America/Chicago:20280301T120000
DTSTAMP:20260419T093204
CREATED:20241210T180950Z
LAST-MODIFIED:20250318T180649Z
UID:10000043-1835514000-1835524800@slls.org
SUMMARY:Homeownership Outreach - Kenner Senior Center
DESCRIPTION:
URL:https://slls.org/en/event/homeownership-outreach-kenner-senior-center/2028-03-01/
LOCATION:kenner senior center\, 641 Compromise St\, Kenner\, LA\, 70062\, United States
CATEGORIES:Clinics
END:VEVENT
BEGIN:VEVENT
DTSTART;TZID=America/Chicago:20280405T090000
DTEND;TZID=America/Chicago:20280405T120000
DTSTAMP:20260419T093204
CREATED:20241210T180950Z
LAST-MODIFIED:20250318T180649Z
UID:10000044-1838538000-1838548800@slls.org
SUMMARY:Homeownership Outreach - Kenner Senior Center
DESCRIPTION:
URL:https://slls.org/en/event/homeownership-outreach-kenner-senior-center/2028-04-05/
LOCATION:kenner senior center\, 641 Compromise St\, Kenner\, LA\, 70062\, United States
CATEGORIES:Clinics
END:VEVENT
BEGIN:VEVENT
DTSTART;TZID=America/Chicago:20280503T090000
DTEND;TZID=America/Chicago:20280503T120000
DTSTAMP:20260419T093204
CREATED:20241210T180950Z
LAST-MODIFIED:20250318T180649Z
UID:10000045-1840957200-1840968000@slls.org
SUMMARY:Homeownership Outreach - Kenner Senior Center
DESCRIPTION:
URL:https://slls.org/en/event/homeownership-outreach-kenner-senior-center/2028-05-03/
LOCATION:kenner senior center\, 641 Compromise St\, Kenner\, LA\, 70062\, United States
CATEGORIES:Clinics
END:VEVENT
BEGIN:VEVENT
DTSTART;TZID=America/Chicago:20280607T090000
DTEND;TZID=America/Chicago:20280607T120000
DTSTAMP:20260419T093204
CREATED:20241210T180950Z
LAST-MODIFIED:20250318T180649Z
UID:10000046-1843981200-1843992000@slls.org
SUMMARY:Homeownership Outreach - Kenner Senior Center
DESCRIPTION:
URL:https://slls.org/en/event/homeownership-outreach-kenner-senior-center/2028-06-07/
LOCATION:kenner senior center\, 641 Compromise St\, Kenner\, LA\, 70062\, United States
CATEGORIES:Clinics
END:VEVENT
BEGIN:VEVENT
DTSTART;TZID=America/Chicago:20280705T090000
DTEND;TZID=America/Chicago:20280705T120000
DTSTAMP:20260419T093204
CREATED:20241210T180950Z
LAST-MODIFIED:20250318T180649Z
UID:10000047-1846400400-1846411200@slls.org
SUMMARY:Homeownership Outreach - Kenner Senior Center
DESCRIPTION:
URL:https://slls.org/en/event/homeownership-outreach-kenner-senior-center/2028-07-05/
LOCATION:kenner senior center\, 641 Compromise St\, Kenner\, LA\, 70062\, United States
CATEGORIES:Clinics
END:VEVENT
BEGIN:VEVENT
DTSTART;TZID=America/Chicago:20280802T090000
DTEND;TZID=America/Chicago:20280802T120000
DTSTAMP:20260419T093204
CREATED:20241210T180950Z
LAST-MODIFIED:20250318T180649Z
UID:10000048-1848819600-1848830400@slls.org
SUMMARY:Homeownership Outreach - Kenner Senior Center
DESCRIPTION:
URL:https://slls.org/en/event/homeownership-outreach-kenner-senior-center/2028-08-02/
LOCATION:kenner senior center\, 641 Compromise St\, Kenner\, LA\, 70062\, United States
CATEGORIES:Clinics
END:VEVENT
BEGIN:VEVENT
DTSTART;TZID=America/Chicago:20280906T090000
DTEND;TZID=America/Chicago:20280906T120000
DTSTAMP:20260419T093204
CREATED:20241210T180950Z
LAST-MODIFIED:20250318T180649Z
UID:10000049-1851843600-1851854400@slls.org
SUMMARY:Homeownership Outreach - Kenner Senior Center
DESCRIPTION:
URL:https://slls.org/en/event/homeownership-outreach-kenner-senior-center/2028-09-06/
LOCATION:kenner senior center\, 641 Compromise St\, Kenner\, LA\, 70062\, United States
CATEGORIES:Clinics
END:VEVENT
BEGIN:VEVENT
DTSTART;TZID=America/Chicago:20281004T090000
DTEND;TZID=America/Chicago:20281004T120000
DTSTAMP:20260419T093204
CREATED:20241210T180950Z
LAST-MODIFIED:20250318T180649Z
UID:10000050-1854262800-1854273600@slls.org
SUMMARY:Homeownership Outreach - Kenner Senior Center
DESCRIPTION:
URL:https://slls.org/en/event/homeownership-outreach-kenner-senior-center/2028-10-04/
LOCATION:kenner senior center\, 641 Compromise St\, Kenner\, LA\, 70062\, United States
CATEGORIES:Clinics
END:VEVENT
END:VCALENDAR